BEGIN:VCALENDAR
VERSION:2.0
PRODID:-//eventon.com NONSGML v1.0//EN
BEGIN:VEVENT
UID:69e8e0c4a0387
DTSTAMP:20260422T165252
DTSTART:20221123T180000Z
DTEND:20221123T223000Z
TZID:Europe/Berlin
LOCATION:
SUMMARY:TIPSY DATE NIGHT: KOKEN MET ITALIAANSE WIJN
DESCRIPTION: Ben je dol op Italiaans eten en wijn en wil je je partner\,  een vriend/in of iemand anders verrassen met een smakelijke&nbsp;date&nbsp;night? Of heerlijke recepten leren om&nbsp;thuis te maken voor een bijzonder iemand? Je kunt&nbsp;alleen komen of met je partner.Kom met ons koken op deze “boozy” date night! We zullen[..]\nhttps://www.cucinadelsole.nl/events/tipsy-date-night-cooking-with-italian-wine-6/
URL:https://www.cucinadelsole.nl/events/tipsy-date-night-cooking-with-italian-wine-6/
END:VEVENT
END:VCALENDAR