BEGIN:VCALENDAR
VERSION:2.0
PRODID:-//eventon.com NONSGML v1.0//EN
BEGIN:VEVENT
UID:69ece5ae48c26
DTSTAMP:20260425T180254
DTSTART:20220927T180000Z
DTEND:20220927T223000Z
TZID:Europe/Berlin
LOCATION:
SUMMARY:COOKING COURSE BASICS OF THE ITALIAN CUISINE PART 2 TUE8 - 4 LESSONS
DESCRIPTION: Course TUE8. 4 lessons Tuesday 20 & 27 September and 11 & 18 October 2022 with more Italian classics. FOR MORE INFO CLICK ON “LEARN MORE”.\nhttps://www.cucinadelsole.nl/events/cooking-course-basics-of-the-italian-cuisine-part-2-tue8-4-lessons/var/ri-1.l-L1
URL:https://www.cucinadelsole.nl/events/cooking-course-basics-of-the-italian-cuisine-part-2-tue8-4-lessons/var/ri-1.l-L1
END:VEVENT
END:VCALENDAR