BEGIN:VCALENDAR
VERSION:2.0
PRODID:-//eventon.com NONSGML v1.0//EN
BEGIN:VEVENT
UID:69e500927ed62
DTSTAMP:20260419T181930
DTSTART:20221026T180000Z
DTEND:20221026T223000Z
TZID:Europe/Berlin
LOCATION:
SUMMARY:TIPSY DATE NIGHT: COOKING WITH ITALIAN WINE
DESCRIPTION: Do you love Italian food and wine and would you like to surprise your partner\,  a friend or any other loved one with a tasty date night? Or learn some delicious recipes to cook at home for a special someone? You can come alone or with someone else.Join us on this winey date[..]\nhttps://www.cucinadelsole.nl/events/tipsy-date-night-cooking-with-italian-wine-5/
URL:https://www.cucinadelsole.nl/events/tipsy-date-night-cooking-with-italian-wine-5/
END:VEVENT
END:VCALENDAR