BEGIN:VCALENDAR
VERSION:2.0
PRODID:-//eventon.com NONSGML v1.0//EN
BEGIN:VEVENT
UID:69e74dddd399d
DTSTAMP:20260421T121349
DTSTART:20220811T180000Z
DTEND:20220811T223000Z
TZID:Europe/Berlin
LOCATION:
SUMMARY:RISOTTO WORKSHOP
DESCRIPTION: We bereiden 4 gerechten: een risotto con mele e speck (heerlijke risotto met appel en speck)\,  de risotto ai frutti di mare (risotto met vongole – venusschelpjes – en garnalen)\,  een risotto met zwarte rijst\,  tomaat en basilicumcoulis en de vrolijke risotto con verdure di stagione in het voorjaar (met seizoensgroente en kaas) of[..]\nhttps://www.cucinadelsole.nl/events/risotto-workshop-2/
URL:https://www.cucinadelsole.nl/events/risotto-workshop-2/
END:VEVENT
END:VCALENDAR