BEGIN:VCALENDAR
VERSION:2.0
PRODID:-//eventon.com NONSGML v1.0//EN
BEGIN:VEVENT
UID:69e7872d51f32
DTSTAMP:20260421T161821
DTSTART:20221119T103000Z
DTEND:20221119T143000Z
TZID:Europe/Berlin
LOCATION:
SUMMARY:DE VENETIAANSE KEUKEN
DESCRIPTION: We maken polpettine di carne e patate (gefrituurde aardappel-vleesballetjes\,  evt. ook in vegetarische versie) en rotolini di zucchina ripieni (gevulde courgetterolletjes). Als primo piatto bereiden we gnocchi di zucca (pompoengnocchi met een delicate pesto van gemengde kruiden) en als secondo maken we de heerlijke pollo in tecia\,  gestoofde kip in tomatensaus op z’n Venetiaans geserveerd met een[..]\nhttps://www.cucinadelsole.nl/events/the-venetian-cuisine-4/
URL:https://www.cucinadelsole.nl/events/the-venetian-cuisine-4/
END:VEVENT
END:VCALENDAR