BEGIN:VCALENDAR
VERSION:2.0
PRODID:-//eventon.com NONSGML v1.0//EN
BEGIN:VEVENT
UID:69e77689937dc
DTSTAMP:20260421T150721
DTSTART:20221119T103000Z
DTEND:20221119T143000Z
TZID:Europe/Berlin
LOCATION:
SUMMARY:THE VENETIAN CUISINE
DESCRIPTION: The&nbsp;cicchetti&nbsp;are&nbsp;polpettine di carne e patate&nbsp;(fried meatballs prepared with with potatoes and mortadella\,  also in vegetarian version) and&nbsp;rotolini di zucchina ripieni&nbsp;(stuffed courgette rolls). Our first course is&nbsp;gnocchi di zucca&nbsp;(pumpkin gnocchi&nbsp;with a delicate mixed herbs pesto) and as a&nbsp;secondo&nbsp;we prepare the delicious&nbsp;pollo in tecia\, &nbsp;braised chicken in tomato sauce&nbsp;the Venetian way served with[..]\nhttps://www.cucinadelsole.nl/events/the-venetian-cuisine-4/
URL:https://www.cucinadelsole.nl/events/the-venetian-cuisine-4/
END:VEVENT
END:VCALENDAR