BEGIN:VCALENDAR
VERSION:2.0
PRODID:-//eventon.com NONSGML v1.0//EN
BEGIN:VEVENT
UID:69e7874637f84
DTSTAMP:20260421T161846
DTSTART:20220710T163000Z
DTEND:20220710T210000Z
TZID:Europe/Berlin
LOCATION:
SUMMARY:PIZZA WORKSHOP
DESCRIPTION: Learn how to make pizza like a pro!During this cooking class we prepare&nbsp;two types of dough: one for&nbsp;pizza romana&nbsp;(the thin-crusted one) and one for the&nbsp;pizza napoletana&nbsp;(the thicker one). For complete info on this workshop click on “Learn more”.\nhttps://www.cucinadelsole.nl/events/pizza-workshop-16/
URL:https://www.cucinadelsole.nl/events/pizza-workshop-16/
END:VEVENT
END:VCALENDAR