BEGIN:VCALENDAR
VERSION:2.0
PRODID:-//eventon.com NONSGML v1.0//EN
BEGIN:VEVENT
UID:69e79a13b105e
DTSTAMP:20260421T173859
DTSTART:20220407T183000Z
DTEND:20220407T223000Z
TZID:Europe/Berlin
LOCATION:
SUMMARY:PASTA & GNOCCHI WORKSHOP
DESCRIPTION: You make beautiful\,  silky pasta dough with 2 types of flour and eggs\,  then prepare three types of pasta and some classic potato gnocchi plus 4 sauces. You’ll get all the tips and tricks from real Italian cooks who’ve been making pasta since they were children! We make ravioli filled with ricotta and spinach in butter[..]\nhttps://www.cucinadelsole.nl/events/pasta-gnocchi-workshop-24/
URL:https://www.cucinadelsole.nl/events/pasta-gnocchi-workshop-24/
END:VEVENT
END:VCALENDAR