BEGIN:VCALENDAR
VERSION:2.0
PRODID:-//eventon.com NONSGML v1.0//EN
BEGIN:VEVENT
UID:69e7f4ce161d6
DTSTAMP:20260422T000606
DTSTART:20220308T180000Z
DTEND:20220308T223000Z
TZID:Europe/Berlin
LOCATION:
SUMMARY:KOOKCURSUS TUE6 BASIS VD ITALIAANSE KEUKEN - 4 LESSEN
DESCRIPTION: Leer de basis van de Italiaanse keuken in 4 lessen. Dinsdag 8\,  15\,  22 en 29 maart 2022. Voor meer info\,  klik op “Learn more”.\nhttps://www.cucinadelsole.nl/events/cooking-course-tue6-basics-of-the-italian-cuisine-4-lessons/
URL:https://www.cucinadelsole.nl/events/cooking-course-tue6-basics-of-the-italian-cuisine-4-lessons/
END:VEVENT
END:VCALENDAR