BEGIN:VCALENDAR
VERSION:2.0
PRODID:-//eventon.com NONSGML v1.0//EN
BEGIN:VEVENT
UID:69e7e19b74a8b
DTSTAMP:20260421T224411
DTSTART:20220308T180000Z
DTEND:20220308T223000Z
TZID:Europe/Berlin
LOCATION:
SUMMARY:COOKING COURSE TUE6 BASICS OF THE ITALIAN CUISINE - 4 LESSONS
DESCRIPTION: Learn the basics of the Italian cuisine in 4 lessons. Tuesday 8\,  15\,  22 and 29 March 2022. For more info\,  click on “Learn more”.\nhttps://www.cucinadelsole.nl/events/cooking-course-tue6-basics-of-the-italian-cuisine-4-lessons/
URL:https://www.cucinadelsole.nl/events/cooking-course-tue6-basics-of-the-italian-cuisine-4-lessons/
END:VEVENT
END:VCALENDAR