BEGIN:VCALENDAR
VERSION:2.0
PRODID:-//eventon.com NONSGML v1.0//EN
BEGIN:VEVENT
UID:69e80bd97be9d
DTSTAMP:20260422T014425
DTSTART:20220609T180000Z
DTEND:20220609T223000Z
TZID:Europe/Berlin
LOCATION:
SUMMARY:TIPSY DATE NIGHT: KOKEN MET ITALIAANSE WIJN
DESCRIPTION: Ben je dol op Italiaans eten en wijn en wil je je geliefde verrassen met een smakelijke&nbsp;date&nbsp;night? Of heerlijke recepten leren om&nbsp;thuis te maken voor je geliefde? Je kunt&nbsp;alleen komen of met je partner!Kom met ons koken op deze “wijnachtige” date night! We zullen een aantal prachtige gerechten bereiden die[..]\nhttps://www.cucinadelsole.nl/events/tipsy-date-night-cooking-with-italian-wine-4/
URL:https://www.cucinadelsole.nl/events/tipsy-date-night-cooking-with-italian-wine-4/
END:VEVENT
END:VCALENDAR