BEGIN:VCALENDAR
VERSION:2.0
PRODID:-//eventon.com NONSGML v1.0//EN
BEGIN:VEVENT
UID:69e7f3c4a3d35
DTSTAMP:20260422T000140
DTSTART:20220609T180000Z
DTEND:20220609T223000Z
TZID:Europe/Berlin
LOCATION:
SUMMARY:TIPSY DATE NIGHT: COOKING WITH ITALIAN WINE
DESCRIPTION: Do you love Italian food and wine and would you like to surprise your loved one with a&nbsp;tasty date night? Or learn some delicious recipes to&nbsp;cook at home for your loved one? You can come&nbsp;alone or with your date!Join us on this winey date night! We’ll prepare some wonderful dishes[..]\nhttps://www.cucinadelsole.nl/events/tipsy-date-night-cooking-with-italian-wine-4/
URL:https://www.cucinadelsole.nl/events/tipsy-date-night-cooking-with-italian-wine-4/
END:VEVENT
END:VCALENDAR