BEGIN:VCALENDAR
VERSION:2.0
PRODID:-//eventon.com NONSGML v1.0//EN
BEGIN:VEVENT
UID:69e80879da1a2
DTSTAMP:20260422T013001
DTSTART:20220602T180000Z
DTEND:20220602T223000Z
TZID:Europe/Berlin
LOCATION:
SUMMARY:THE TUSCAN CUISINE
DESCRIPTION: We prepare&nbsp;two types of crostini&nbsp;(green ones with a tangy herbal pesto and red ones with a spicy tomato and beans cream). The main dish is wonderful&nbsp;crespelle alla fiorentina&nbsp;(thin&nbsp;crêpes stuffed with ricotta and spinach&nbsp;in tomato sauce). The side dishes are a rich&nbsp;panzanella salad&nbsp;with lots of fresh vegetables and stewed&nbsp;fennel and red[..]\nhttps://www.cucinadelsole.nl/events/the-tuscan-cuisine-4/
URL:https://www.cucinadelsole.nl/events/the-tuscan-cuisine-4/
END:VEVENT
END:VCALENDAR