BEGIN:VCALENDAR
VERSION:2.0
PRODID:-//eventon.com NONSGML v1.0//EN
BEGIN:VEVENT
UID:69e8313250a84
DTSTAMP:20260422T042346
DTSTART:20220602T180000Z
DTEND:20220602T223000Z
TZID:Europe/Berlin
LOCATION:
SUMMARY:DE TOSCAANSE KEUKEN
DESCRIPTION: We bereiden twee soorten crostini (groene met een smaakvolle kruidenpesto en rode met een pittige tomaat- en bonencrème) en dan crespelle alla fiorentina (dunne crêpes gevuld met ricotta en spinazie in tomatensaus). De bijgerechten zijn panzanella\,  een rijke salade met veel knapperige groenten\,  en venkel en rode uien met olijven gestoofd in witte wijn. De desserts: twee van de meest[..]\nhttps://www.cucinadelsole.nl/events/the-tuscan-cuisine-4/
URL:https://www.cucinadelsole.nl/events/the-tuscan-cuisine-4/
END:VEVENT
END:VCALENDAR