BEGIN:VCALENDAR
VERSION:2.0
PRODID:-//eventon.com NONSGML v1.0//EN
BEGIN:VEVENT
UID:69e5e53b06e3e
DTSTAMP:20260420T103507
DTSTART:20221001T103000Z
DTEND:20221001T143000Z
TZID:Europe/Berlin
LOCATION:
SUMMARY:KOOKCURSUS BASIS VD ITALIAANSE KEUKEN SAT7 - 4 LESSEN
DESCRIPTION: Cursus SAT7. 4 lessen op zaterdag 1\,  15 en 29 oktober & 12 november met veel van de basisrecepten van de Italiaanse keuken (pasta\,  gnocchi\,  risotto\,  sauzen\,  bolognese\,  ciabatta\,  antipasti en klassieken\,  desserts).VOOR MEER INFO KLIK OP &#8220;LEARN MORE&#8221;.\nhttps://www.cucinadelsole.nl/events/cooking-course-basics-of-the-italian-cuisine-sat7-4-lessons/
URL:https://www.cucinadelsole.nl/events/cooking-course-basics-of-the-italian-cuisine-sat7-4-lessons/
END:VEVENT
END:VCALENDAR