BEGIN:VCALENDAR
VERSION:2.0
PRODID:-//eventon.com NONSGML v1.0//EN
BEGIN:VEVENT
UID:69e5cd8c57729
DTSTAMP:20260420T085404
DTSTART:20221001T103000Z
DTEND:20221001T143000Z
TZID:Europe/Berlin
LOCATION:
SUMMARY:COOKING COURSE BASICS OF THE ITALIAN CUISINE SAT7 - 4 LESSONS
DESCRIPTION: Course SAT7. 4 lessons Saturday 1\,  15 and 29 October & 12 November 2022 with all the basics of the Italian cuisine (pasta\,  gnocchi\,  risotto\,  sauces\,  bolognese\,  ciabatta\,  classics\,  desserts).FOR MORE INFO CLICK ON &#8220;LEARN MORE&#8221;.\nhttps://www.cucinadelsole.nl/events/cooking-course-basics-of-the-italian-cuisine-sat7-4-lessons/
URL:https://www.cucinadelsole.nl/events/cooking-course-basics-of-the-italian-cuisine-sat7-4-lessons/
END:VEVENT
END:VCALENDAR