BEGIN:VCALENDAR
VERSION:2.0
PRODID:-//eventon.com NONSGML v1.0//EN
BEGIN:VEVENT
UID:69e5f879eaa4f
DTSTAMP:20260420T115713
DTSTART:20220816T180000Z
DTEND:20220816T223000Z
TZID:Europe/Berlin
LOCATION:
SUMMARY:DE NAPOLITAANSE KEUKEN
DESCRIPTION: De keuken van Napels is rijk aan authentieke Italiaanse smaken dankzij klassieke ingrediënten zoals tomaat\,  mozzarella\,  pasta en verse kruiden. We eten&nbsp;mozzarella in carrozza&nbsp;(goudgele en krokante “mozzarellasandwiches” met zongedroogde tomaten en kruiden) als starte. De eerste gang is&nbsp;maltagliati con le patate\,  een pittige zelfgemaakte&nbsp;pasta met aardappelen\,  verse kruiden en rode[..]\nhttps://www.cucinadelsole.nl/events/the-neapolitan-cuisine-7/
URL:https://www.cucinadelsole.nl/events/the-neapolitan-cuisine-7/
END:VEVENT
END:VCALENDAR