BEGIN:VCALENDAR
VERSION:2.0
PRODID:-//eventon.com NONSGML v1.0//EN
BEGIN:VEVENT
UID:69e6241c45df2
DTSTAMP:20260420T150324
DTSTART:20220410T173000Z
DTEND:20220410T183000Z
TZID:Europe/Berlin
LOCATION:
SUMMARY:RISOTTO met lentegroente
DESCRIPTION: We maken een van de meest klassieke gerechten uit het Noorden van Italië\,  een&nbsp;risotto met lentegroente&nbsp;en heerlijk krokante&nbsp;Parmezaanse kaas koekjes. Leer alle&nbsp;tips and tricks&nbsp;die je in staat zullen stellen om een perfecte en romige risotto te bereiden. Welke soorten rijst zijn de meest geschikte? Wat hoor je te weten over[..]\nhttps://www.cucinadelsole.nl/events/risotto-with-spring-veggies/var/event_access
URL:https://www.cucinadelsole.nl/events/risotto-with-spring-veggies/var/event_access
END:VEVENT
END:VCALENDAR