BEGIN:VCALENDAR
VERSION:2.0
PRODID:-//eventon.com NONSGML v1.0//EN
BEGIN:VEVENT
UID:69e60b289f2e2
DTSTAMP:20260420T131656
DTSTART:20220410T173000Z
DTEND:20220410T183000Z
TZID:Europe/Berlin
LOCATION:
SUMMARY:RISOTTO with Spring veggies
DESCRIPTION: Learn how to make one of the classics from Northern Italy\,  a&nbsp;risotto with Spring veggies&nbsp;and deliciously crunchy&nbsp;Parmesan cheese cookies. Learn all the tips and tricks that will allow you to prepare a perfectly creamy risotto. Which types of rice are the best ones? What do you need to know about[..]\nhttps://www.cucinadelsole.nl/events/risotto-with-spring-veggies/var/event_access
URL:https://www.cucinadelsole.nl/events/risotto-with-spring-veggies/var/event_access
END:VEVENT
END:VCALENDAR