BEGIN:VCALENDAR
VERSION:2.0
PRODID:-//eventon.com NONSGML v1.0//EN
BEGIN:VEVENT
UID:69e6378e7f23a
DTSTAMP:20260420T162622
DTSTART:20220319T113000Z
DTEND:20220319T123000Z
TZID:Europe/Berlin
LOCATION:
SUMMARY:CANTUCCINI KOEKJES + Vin Santo crème
DESCRIPTION: Leer de beroemde&nbsp;amandelkoekjes&nbsp;uit Prato\,  Toscane\,  maken plus een heerlijke&nbsp;crème bereid met Vin Santo\,  de zoete likeurwijn gebruikt voor het dippen van de cantuccini. Leer alle&nbsp;tips and tricks&nbsp;om heerlijk krokante&nbsp;cantuccini&nbsp;te maken plus een romige en zoete crème die heel goed bij deze koekjes past (ook in alcoholvrije versie voor wie niet[..]\nhttps://www.cucinadelsole.nl/events/cantuccini-crema-al-vin-santo/var/event_access
URL:https://www.cucinadelsole.nl/events/cantuccini-crema-al-vin-santo/var/event_access
END:VEVENT
END:VCALENDAR