BEGIN:VCALENDAR
VERSION:2.0
PRODID:-//eventon.com NONSGML v1.0//EN
BEGIN:VEVENT
UID:69e62267823bf
DTSTAMP:20260420T145607
DTSTART:20220319T113000Z
DTEND:20220319T123000Z
TZID:Europe/Berlin
LOCATION:
SUMMARY:CANTUCCINI + Crema al Vin Santo
DESCRIPTION: Learn how to make the famous&nbsp;almond cookies&nbsp;from Prato\,  Tuscany\,  plus a wonderful&nbsp;cream prepared with Vin Santo\,  the liqueur wine used to dip the cantuccini in. Learn all the tips and tricks that will help you make wonderfully crunchy&nbsp;cantuccini cookies&nbsp;plus a smooth sweet cream that goes really with them (also in[..]\nhttps://www.cucinadelsole.nl/events/cantuccini-crema-al-vin-santo/var/event_access
URL:https://www.cucinadelsole.nl/events/cantuccini-crema-al-vin-santo/var/event_access
END:VEVENT
END:VCALENDAR