BEGIN:VCALENDAR
VERSION:2.0
PRODID:-//eventon.com NONSGML v1.0//EN
BEGIN:VEVENT
UID:69e64c0c5de4f
DTSTAMP:20260420T175348
DTSTART:20220220T173000Z
DTEND:20220220T183000Z
TZID:Europe/Berlin
LOCATION:
SUMMARY:SPAGHETTI ALLA CARBONARA
DESCRIPTION: Leer een van de meest iconische Romeinse gerechten maken\,  de&nbsp;spaghetti alla carbonara. Room\,  geen room? Gaar je de eieren mee of niet? Welke soorten pasta zijn de meest geschikte?Leer alle&nbsp;tips and tricks&nbsp;die jou gaan helpen de romigste en zachtste&nbsp;carbonara&nbsp;ooit te maken. Deze in een live online Zoom kookworkshop. Je krijgt alle instructies[..]\nhttps://www.cucinadelsole.nl/events/spaghetti-alla-carbonara/var/event_access
URL:https://www.cucinadelsole.nl/events/spaghetti-alla-carbonara/var/event_access
END:VEVENT
END:VCALENDAR