BEGIN:VCALENDAR
VERSION:2.0
PRODID:-//eventon.com NONSGML v1.0//EN
BEGIN:VEVENT
UID:69e73afecc6af
DTSTAMP:20260421T105318
DTSTART:20211125T180000Z
DTEND:20211125T223000Z
TZID:Europe/Berlin
LOCATION:La Cucina del Sole Warmondstraat 180 1058 LC Amsterdam
SUMMARY:DE NAPOLITAANSE KEUKEN
DESCRIPTION: De keuken van Napels is rijk aan authentieke Italiaanse smaken dankzij klassieke ingrediënten zoals tomaat\,  mozzarella\,  pasta en verse kruiden. We eten&nbsp;mozzarella in carrozza&nbsp;(goudgele en krokante “mozzarellasandwiches” met zongedroogde tomaten en kruiden) als starte. De eerste gang is&nbsp;maltagliati con le patate\,  een pittige zelfgemaakte&nbsp;pasta met aardappelen\,  verse kruiden en rode[..]\nhttps://www.cucinadelsole.nl/events/the-neapolitan-cuisine-6/
URL:https://www.cucinadelsole.nl/events/the-neapolitan-cuisine-6/
END:VEVENT
END:VCALENDAR