BEGIN:VCALENDAR
VERSION:2.0
PRODID:-//eventon.com NONSGML v1.0//EN
BEGIN:VEVENT
UID:69eb5dcd0b963
DTSTAMP:20260424T141053
DTSTART:20211105T180000Z
DTEND:20211105T223000Z
TZID:Europe/Berlin
LOCATION:
SUMMARY:PIZZA WORKSHOP
DESCRIPTION: Leer pizza maken als een “pro”!Inclusief goodie bag met pizza starter’s kit. Tijdens deze workshop maken we&nbsp;twee soorten deeg: eentje voor de&nbsp;pizza romana&nbsp;(dunne bodem) en eentje voor de&nbsp;pizza napoletana&nbsp;(iets dikkere bodem). Voor complete info over deze workshop klik op “Learn more”.\nhttps://www.cucinadelsole.nl/events/pizza-workshop-10/
URL:https://www.cucinadelsole.nl/events/pizza-workshop-10/
END:VEVENT
END:VCALENDAR