BEGIN:VCALENDAR
VERSION:2.0
PRODID:-//eventon.com NONSGML v1.0//EN
BEGIN:VEVENT
UID:69eb49745f3dd
DTSTAMP:20260424T124404
DTSTART:20211012T180000Z
DTEND:20211012T223000Z
TZID:Europe/Berlin
LOCATION:La Cucina del Sole Warmondstraat 180 1058 LC Amsterdam
SUMMARY:DE VENETIAANSE KEUKEN
DESCRIPTION: We maken polpettine di carne e patate (gefrituurde aardappel-vleesballetjes) en rotolini di zucchina ripieni (gevulde courgetterolletjes). Als primo piatto bereiden we gnocchi di zucca (pompoengnocchi met een delicate pesto van gemengde kruiden) en als secondo maken we de heerlijke pollo in tecia\,  gestoofde kip in tomatensaus op z’n Venetiaans geserveerd met een romige bijgerecht met wortelen en[..]\nhttps://www.cucinadelsole.nl/events/the-venetian-cuisine-2/
URL:https://www.cucinadelsole.nl/events/the-venetian-cuisine-2/
END:VEVENT
END:VCALENDAR