BEGIN:VCALENDAR
VERSION:2.0
PRODID:-//eventon.com NONSGML v1.0//EN
BEGIN:VEVENT
UID:69eb55b70d412
DTSTAMP:20260424T133623
DTSTART:20211012T180000Z
DTEND:20211012T223000Z
TZID:Europe/Berlin
LOCATION:La Cucina del Sole Warmondstraat 180 1058 LC Amsterdam
SUMMARY:THE VENETIAN CUISINE
DESCRIPTION: We prepare polpettine di carne e patate (fried meatballs with potatoes and mortadella) and rotolini di zucchine ripieni (little stuffed courgette rolls). Our primo piatto is gnocchi di zucca (pumpkin gnocchi with a delicate mixed herbs pesto). As a secondo we prepare the delicious pollo in tecia\,  braised chicken in tomato sauce the Venetian way served with a creamy carrot and pancetta side dish and[..]\nhttps://www.cucinadelsole.nl/events/the-venetian-cuisine-2/
URL:https://www.cucinadelsole.nl/events/the-venetian-cuisine-2/
END:VEVENT
END:VCALENDAR