BEGIN:VCALENDAR
VERSION:2.0
PRODID:-//eventon.com NONSGML v1.0//EN
BEGIN:VEVENT
UID:69eb33adb0f20
DTSTAMP:20260424T111109
DTSTART:20211120T103000Z
DTEND:20211120T143000Z
TZID:Europe/Berlin
LOCATION:La Cucina del Sole Warmondstraat 180 1058 LC Amsterdam
SUMMARY:PASTA & GNOCCHI WORKSHOP
DESCRIPTION: Wil je pasta en gnocchi leren maken? Dan is deze kookworkshop voor jou! De hoofdthema’s zijn&nbsp;verse pasta&nbsp;en&nbsp;aardappelgnocchi&nbsp;en je leert alles hierover dankzij de tips en trucs van onze ervaren pastadeskundigen. Iedereen gaat een bolletje deeg maken met 2 soorten bloem en eieren. Daarna gaan we&nbsp;vier verschillende pastasoorten&nbsp;bereiden:&nbsp;ravioli&nbsp;gevuld met ricotta en[..]\nhttps://www.cucinadelsole.nl/events/pasta-gnocchi-workshop-11/
URL:https://www.cucinadelsole.nl/events/pasta-gnocchi-workshop-11/
END:VEVENT
END:VCALENDAR