BEGIN:VCALENDAR
VERSION:2.0
PRODID:-//eventon.com NONSGML v1.0//EN
BEGIN:VEVENT
UID:69eb2419453f4
DTSTAMP:20260424T100441
DTSTART:20211106T103000Z
DTEND:20211106T143000Z
TZID:Europe/Berlin
LOCATION:La Cucina del Sole Warmondstraat 180 1058 LC Amsterdam
SUMMARY:DE SICILIAANSE KEUKEN
DESCRIPTION: We beginnen met de heerlijke involtini di melanzane con spaghettini\,  rolletjes van gegrild aubergine gevuld met dunne spaghetti in een rijke tomaat- & gezouten ricotta saus. We gaan verder met de verrassende fuazza agli spinaci\,  een opgerolde focaccia (zie foto) gevuld met spinazie\,  olijven\,  knoflook en veel pecorino kaas. De pollo con peperonata[..]\nhttps://www.cucinadelsole.nl/events/the-sicilian-cuisine-3/
URL:https://www.cucinadelsole.nl/events/the-sicilian-cuisine-3/
END:VEVENT
END:VCALENDAR