BEGIN:VCALENDAR
VERSION:2.0
PRODID:-//eventon.com NONSGML v1.0//EN
BEGIN:VEVENT
UID:69eb2c50684a2
DTSTAMP:20260424T103944
DTSTART:20211106T103000Z
DTEND:20211106T143000Z
TZID:Europe/Berlin
LOCATION:La Cucina del Sole Warmondstraat 180 1058 LC Amsterdam
SUMMARY:THE SICILIAN CUISINE
DESCRIPTION: We start with the wonderful involtini di melanzane con spaghettini\,  grilled aubergine rolls stuffed with thin spaghetti in a rich tomato & salted ricotta sauce. We proceed with the surprising fuazza agli spinaci\,  a rolled-up focaccia stuffed with spinach\,  olives\,  garlic and lots of pecorino cheese. The pollo con peperonata siciliana (chicken in bell[..]\nhttps://www.cucinadelsole.nl/events/the-sicilian-cuisine-3/
URL:https://www.cucinadelsole.nl/events/the-sicilian-cuisine-3/
END:VEVENT
END:VCALENDAR