BEGIN:VCALENDAR
VERSION:2.0
PRODID:-//eventon.com NONSGML v1.0//EN
BEGIN:VEVENT
UID:69eb0ce420e4f
DTSTAMP:20260424T082540
DTSTART:20211019T180000Z
DTEND:20211019T223000Z
TZID:Europe/Berlin
LOCATION:La Cucina del Sole Warmondstraat 180 1058 LC Amsterdam
SUMMARY:DE TOSCAANSE KEUKEN
DESCRIPTION: Deze kookworkshop is een eerbetoon aan de Toscaanse keuken\,  die wereldwijd zeer geliefd is voor haar eenvoudige en toch fantastische gerechten. We bereiden twee soorten crostini (groene met een smaakvolle kruidenpesto en rode met een pittige tomaat- en bonencrème) en dan crespelle alla fiorentina (dunne crêpes gevuld met ricotta en spinazie in tomatensaus). De bijgerechten zijn panzanella\,  een[..]\nhttps://www.cucinadelsole.nl/events/the-tuscan-cuisine-3/
URL:https://www.cucinadelsole.nl/events/the-tuscan-cuisine-3/
END:VEVENT
END:VCALENDAR