BEGIN:VCALENDAR
VERSION:2.0
PRODID:-//eventon.com NONSGML v1.0//EN
BEGIN:VEVENT
UID:69eb0737d02e6
DTSTAMP:20260424T080127
DTSTART:20211021T180000Z
DTEND:20211021T223000Z
TZID:Europe/Berlin
LOCATION:La Cucina del Sole Warmondstraat 180 1058 LC Amsterdam
SUMMARY:TIPSY DATE NIGHT: COOKING WITH ITALIAN WINE
DESCRIPTION: Do you love Italian food and wine and would you like to surprise your loved one with a&nbsp;tasty date night? Or learn some delicious recipes to&nbsp;cook at home for your loved one? You can come&nbsp;alone or with your date!Join us on this winey date night! We’ll prepare some wonderful dishes[..]\nhttps://www.cucinadelsole.nl/events/tipsy-date-night-cooking-with-italian-wine/
URL:https://www.cucinadelsole.nl/events/tipsy-date-night-cooking-with-italian-wine/
END:VEVENT
END:VCALENDAR