BEGIN:VCALENDAR
VERSION:2.0
PRODID:-//eventon.com NONSGML v1.0//EN
BEGIN:VEVENT
UID:69eafd0fc253f
DTSTAMP:20260424T071807
DTSTART:20211021T180000Z
DTEND:20211021T223000Z
TZID:Europe/Berlin
LOCATION:La Cucina del Sole Warmondstraat 180 1058 LC Amsterdam
SUMMARY:TIPSY DATE NIGHT: KOKEN MET ITALIAANSE WIJN
DESCRIPTION: Ben je dol op Italiaans eten en wijn en wil je je geliefde verrassen met een smakelijke date night? Of wil je heerlijke recepten leren maken die je dan thuis voor je lieverd kunt bereiden?Kom met ons koken op deze “boozy” date night! We zullen een aantal prachtige gerechten bereiden die bedacht zijn[..]\nhttps://www.cucinadelsole.nl/events/tipsy-date-night-cooking-with-italian-wine/
URL:https://www.cucinadelsole.nl/events/tipsy-date-night-cooking-with-italian-wine/
END:VEVENT
END:VCALENDAR