BEGIN:VCALENDAR
VERSION:2.0
PRODID:-//eventon.com NONSGML v1.0//EN
BEGIN:VEVENT
UID:69eaeaf071465
DTSTAMP:20260424T060048
DTSTART:20210831T180000Z
DTEND:20210831T223000Z
TZID:Europe/Berlin
LOCATION:La Cucina del Sole Warmondstraat 180 1058 LC Amsterdam
SUMMARY:DE NAPOLITAANSE KEUKEN
DESCRIPTION: De keuken van Napels is rijk aan authentieke Italiaanse smaken dankzij klassieke ingrediënten zoals tomaat\,  mozzarella\,  pasta en verse kruiden. We eten mozzarella in carrozza (goudgele en krokante “mozzarellasandwiches” met zongedroogde tomaten en kruiden) als starte. De eerste gang is maltagliati con le patate\,  een pittige zelfgemaakte pasta met aardappelen\,  verse kruiden en rode[..]\nhttps://www.cucinadelsole.nl/events/the-neapolitan-cuisine-5/
URL:https://www.cucinadelsole.nl/events/the-neapolitan-cuisine-5/
END:VEVENT
END:VCALENDAR