BEGIN:VCALENDAR
VERSION:2.0
PRODID:-//eventon.com NONSGML v1.0//EN
BEGIN:VEVENT
UID:69eaf8c5185dd
DTSTAMP:20260424T065949
DTSTART:20210831T180000Z
DTEND:20210831T223000Z
TZID:Europe/Berlin
LOCATION:La Cucina del Sole Warmondstraat 180 1058 LC Amsterdam
SUMMARY:THE NEAPOLITAN CUISINE
DESCRIPTION: The Neapolitan cuisine is full of authentic Italian flavours thanks to classic ingredients such as tomato\,  mozzarella\,  pasta and fresh herbs. We’re eating&nbsp;mozzarella in carrozza&nbsp;(crunchy&nbsp;fried mozzarella sandwiches&nbsp;with sun-dried tomatoes and herbs)\, &nbsp;maltagliati con le patate\,  a spicy home-made&nbsp;pasta with red chilli peppers\,  potatoes and fresh herbs\,  and the famous&nbsp;parmigiana di melanzane\, [..]\nhttps://www.cucinadelsole.nl/events/the-neapolitan-cuisine-5/
URL:https://www.cucinadelsole.nl/events/the-neapolitan-cuisine-5/
END:VEVENT
END:VCALENDAR