BEGIN:VCALENDAR
VERSION:2.0
PRODID:-//eventon.com NONSGML v1.0//EN
BEGIN:VEVENT
UID:69eada001a96b
DTSTAMP:20260424T044832
DTSTART:20210929T180000Z
DTEND:20210929T223000Z
TZID:Europe/Berlin
LOCATION:La Cucina del Sole Warmondstraat 180 1058 LC Amsterdam
SUMMARY:KOOKCURSUS WED4 BASIS VD ITALIAANSE KEUKEN LES 4
DESCRIPTION: Leer de basis van de Italiaanse keuken in 4 lessen. Les 4. Voor meer info\,  klik op “Learn more”.\nhttps://www.cucinadelsole.nl/events/cooking-course-wed4-basics-of-the-italian-cuisine-lesson-4/
URL:https://www.cucinadelsole.nl/events/cooking-course-wed4-basics-of-the-italian-cuisine-lesson-4/
END:VEVENT
END:VCALENDAR