BEGIN:VCALENDAR
VERSION:2.0
PRODID:-//eventon.com NONSGML v1.0//EN
BEGIN:VEVENT
UID:69eaf829bc54e
DTSTAMP:20260424T065713
DTSTART:20210929T180000Z
DTEND:20210929T223000Z
TZID:Europe/Berlin
LOCATION:La Cucina del Sole Warmondstraat 180 1058 LC Amsterdam
SUMMARY:COOKING COURSE WED4 BASICS OF THE ITALIAN CUISINE LESSON 4
DESCRIPTION: Learn the basics of the Italian cuisine in 4 lessons. Lesson 4. For more info\,  click on “Learn more”.\nhttps://www.cucinadelsole.nl/events/cooking-course-wed4-basics-of-the-italian-cuisine-lesson-4/
URL:https://www.cucinadelsole.nl/events/cooking-course-wed4-basics-of-the-italian-cuisine-lesson-4/
END:VEVENT
END:VCALENDAR