BEGIN:VCALENDAR
VERSION:2.0
PRODID:-//eventon.com NONSGML v1.0//EN
BEGIN:VEVENT
UID:69eac8ebca632
DTSTAMP:20260424T033539
DTSTART:20210922T180000Z
DTEND:20210922T223000Z
TZID:Europe/Berlin
LOCATION:La Cucina del Sole Warmondstraat 180 1058 LC Amsterdam
SUMMARY:KOOKCURSUS WED4 BASIS VD ITALIAANSE KEUKEN LES 3
DESCRIPTION: Leer de basis van de Italiaanse keuken in 4 lessen. Les 3. Voor meer info\,  klik op “Learn more”.\nhttps://www.cucinadelsole.nl/events/cooking-course-wed4-basics-of-the-italian-cuisine-lesson-3/
URL:https://www.cucinadelsole.nl/events/cooking-course-wed4-basics-of-the-italian-cuisine-lesson-3/
END:VEVENT
END:VCALENDAR