BEGIN:VCALENDAR
VERSION:2.0
PRODID:-//eventon.com NONSGML v1.0//EN
BEGIN:VEVENT
UID:69eab4ad88820
DTSTAMP:20260424T020917
DTSTART:20210908T180000Z
DTEND:20210908T223000Z
TZID:Europe/Berlin
LOCATION:La Cucina del Sole Warmondstraat 180 1058 LC Amsterdam
SUMMARY:KOOKCURSUS WED4 BASIS VD ITALIAANSE KEUKEN LES 2
DESCRIPTION: Leer de basis van de Italiaanse keuken in 4 lessen. Les 2. Voor meer info\,  klik op “Learn more”.\nhttps://www.cucinadelsole.nl/events/cooking-course-wed4-basics-of-the-italian-cuisine-lesson-2/
URL:https://www.cucinadelsole.nl/events/cooking-course-wed4-basics-of-the-italian-cuisine-lesson-2/
END:VEVENT
END:VCALENDAR