BEGIN:VCALENDAR
VERSION:2.0
PRODID:-//eventon.com NONSGML v1.0//EN
BEGIN:VEVENT
UID:69eac499c99d2
DTSTAMP:20260424T031713
DTSTART:20210908T180000Z
DTEND:20210908T223000Z
TZID:Europe/Berlin
LOCATION:La Cucina del Sole Warmondstraat 180 1058 LC Amsterdam
SUMMARY:COOKING COURSE WED4 BASICS OF THE ITALIAN CUISINE LESSON 2
DESCRIPTION: Learn the basics of the Italian cuisine in 4 lessons. Lesson 2. For more info\,  click on “Learn more”.\nhttps://www.cucinadelsole.nl/events/cooking-course-wed4-basics-of-the-italian-cuisine-lesson-2/
URL:https://www.cucinadelsole.nl/events/cooking-course-wed4-basics-of-the-italian-cuisine-lesson-2/
END:VEVENT
END:VCALENDAR