BEGIN:VCALENDAR
VERSION:2.0
PRODID:-//eventon.com NONSGML v1.0//EN
BEGIN:VEVENT
UID:69eaa4f5e5638
DTSTAMP:20260424T010213
DTSTART:20210901T180000Z
DTEND:20210901T223000Z
TZID:Europe/Berlin
LOCATION:La Cucina del Sole Warmondstraat 180 1058 LC Amsterdam
SUMMARY:KOOKCURSUS WED4 BASIS VD ITALIAANSE KEUKEN LES 1
DESCRIPTION: Leer de basis van de Italiaanse keuken in 4 lessen. Les 1. Voor meer info\,  klik op &#8220;Learn more&#8221;.\nhttps://www.cucinadelsole.nl/events/cooking-course-wed4-basics-of-the-italian-cuisine-lesson-1/
URL:https://www.cucinadelsole.nl/events/cooking-course-wed4-basics-of-the-italian-cuisine-lesson-1/
END:VEVENT
END:VCALENDAR