BEGIN:VCALENDAR
VERSION:2.0
PRODID:-//eventon.com NONSGML v1.0//EN
BEGIN:VEVENT
UID:69eaaf7ba7220
DTSTAMP:20260424T014707
DTSTART:20210901T180000Z
DTEND:20210901T223000Z
TZID:Europe/Berlin
LOCATION:La Cucina del Sole Warmondstraat 180 1058 LC Amsterdam
SUMMARY:COOKING COURSE WED4 BASICS OF THE ITALIAN CUISINE LESSON 1
DESCRIPTION: Learn the basics of the Italian cuisine in 4 lessons. Lesson 1. For more info\,  click on &#8220;Learn more&#8221;.\nhttps://www.cucinadelsole.nl/events/cooking-course-wed4-basics-of-the-italian-cuisine-lesson-1/
URL:https://www.cucinadelsole.nl/events/cooking-course-wed4-basics-of-the-italian-cuisine-lesson-1/
END:VEVENT
END:VCALENDAR