BEGIN:VCALENDAR
VERSION:2.0
PRODID:-//eventon.com NONSGML v1.0//EN
BEGIN:VEVENT
UID:69ea8f9ba54f9
DTSTAMP:20260423T233107
DTSTART:20211023T103000Z
DTEND:20211023T143000Z
TZID:Europe/Berlin
LOCATION:La Cucina del Sole Warmondstraat 180 1058 LC Amsterdam
SUMMARY:PASTA & GNOCCHI WORKSHOP
DESCRIPTION: Wil je pasta en gnocchi leren maken? Dan is deze kookworkshop voor jou! De hoofdthema’s zijn verse pasta en aardappelgnocchi en je leert alles hierover dankzij de tips en trucs van onze ervaren pastadeskundigen. Iedereen gaat een bolletje deeg maken met 2 soorten bloem en eieren. Daarna gaan we vier[..]\nhttps://www.cucinadelsole.nl/events/pasta-gnocchi-workshop-10/
URL:https://www.cucinadelsole.nl/events/pasta-gnocchi-workshop-10/
END:VEVENT
END:VCALENDAR