BEGIN:VCALENDAR
VERSION:2.0
PRODID:-//eventon.com NONSGML v1.0//EN
BEGIN:VEVENT
UID:69e8a21a81d9c
DTSTAMP:20260422T122530
DTSTART:20210722T180000Z
DTEND:20210722T223000Z
TZID:Europe/Berlin
LOCATION:La Cucina del Sole Warmondstraat 180 1058 LC Amsterdam
SUMMARY:Italian Sushi Workshop
DESCRIPTION: A fun way to make sushi: the Italian way! Try these totally delicious variations prepared with good Italian round rice and black rice plus other classic Italian ingredients.What about caprese sushi? Or Ceasar sushi with garlic mayo? And sushi with roasted bell peppers\,  mozzarella and ham? Or with tuna\,  tomato\,  spring onions and egg? All sushi types[..]\nhttps://www.cucinadelsole.nl/events/italian-sushi-workshop/
URL:https://www.cucinadelsole.nl/events/italian-sushi-workshop/
END:VEVENT
END:VCALENDAR