BEGIN:VCALENDAR
VERSION:2.0
PRODID:-//eventon.com NONSGML v1.0//EN
BEGIN:VEVENT
UID:69e8a22b601f7
DTSTAMP:20260422T122547
DTSTART:20210925T103000Z
DTEND:20210925T143000Z
TZID:Europe/Berlin
LOCATION:La Cucina del Sole Warmondstraat 180 1058 LC Amsterdam
SUMMARY:DE KEUKEN VAN PUGLIA
DESCRIPTION: Puglia (Apulië) is de “hak” van Italië en een van de streken met de meest pure en authentieke keukens. We beginnen met polpette di melanzane (gefrituurde aubergineballetjes met pecorino en oregano) als borrelhap. Daarna eten we heerlijke capunti\,  zelfgemaakte pasta met Primitivo wijn in een rode wijnsaus met verse kruiden en veel groenten. Als secondo piatto gaan we[..]\nhttps://www.cucinadelsole.nl/events/the-apulian-cuisine-3/
URL:https://www.cucinadelsole.nl/events/the-apulian-cuisine-3/
END:VEVENT
END:VCALENDAR