BEGIN:VCALENDAR
VERSION:2.0
PRODID:-//eventon.com NONSGML v1.0//EN
BEGIN:VEVENT
UID:69e84983d795e
DTSTAMP:20260422T060731
DTSTART:20211113T103000Z
DTEND:20211113T143000Z
TZID:Europe/Berlin
LOCATION:La Cucina del Sole Warmondstraat 180 1058 LC Amsterdam
SUMMARY:KOOKCURSUS SAT4 BASIS VD ITALIAANSE KEUKEN
DESCRIPTION: Cursus SAT4\,  Les 4. 4 lessen op zaterdag 2\,  16 en 30 oktober & 13 november 2021 met alle basisrecepten van de Italiaanse keuken (pasta\,  gnocchi\,  risotto\,  sauzen\,  bolognese\,  ciabatta\,  klassieken\,  desserts).\nhttps://www.cucinadelsole.nl/events/cooking-course-sat4-basics-of-the-italian-cuisine-4/
URL:https://www.cucinadelsole.nl/events/cooking-course-sat4-basics-of-the-italian-cuisine-4/
END:VEVENT
END:VCALENDAR