BEGIN:VCALENDAR
VERSION:2.0
PRODID:-//eventon.com NONSGML v1.0//EN
BEGIN:VEVENT
UID:69e85d65d89be
DTSTAMP:20260422T073221
DTSTART:20211113T103000Z
DTEND:20211113T143000Z
TZID:Europe/Berlin
LOCATION:La Cucina del Sole Warmondstraat 180 1058 LC Amsterdam
SUMMARY:COOKING COURSE SAT4 BASICS OF THE ITALIAN CUISINE
DESCRIPTION: Course SAT4\,  Lesson 4. 4 lessons Saturday 2\,  16 and 30 October & 13 November 2021 with all the basics of the Italian cuisine (pasta\,  gnocchi\,  risotto\,  sauces\,  bolognese\,  ciabatta\,  classics\,  desserts).\nhttps://www.cucinadelsole.nl/events/cooking-course-sat4-basics-of-the-italian-cuisine-4/
URL:https://www.cucinadelsole.nl/events/cooking-course-sat4-basics-of-the-italian-cuisine-4/
END:VEVENT
END:VCALENDAR