BEGIN:VCALENDAR
VERSION:2.0
PRODID:-//eventon.com NONSGML v1.0//EN
BEGIN:VEVENT
UID:69e7df56b83c2
DTSTAMP:20260421T223430
DTSTART:20210821T103000Z
DTEND:20210821T143000Z
TZID:Europe/Berlin
LOCATION:La Cucina del Sole Warmondstraat 180 1058 LC Amsterdam
SUMMARY:Pasta & Gnocchi Workshop
DESCRIPTION: You make beautiful\,  silky pasta dough with 2 types of flour and eggs\,  then prepare&nbsp;three types of pasta&nbsp;and some classic&nbsp;potato gnocchi&nbsp;plus 4 sauces. You’ll get all the tips and tricks from real Italian cooks who’ve been making pasta since they were children! We make&nbsp;ravioli&nbsp;filled with ricotta and spinach in butter[..]\nhttps://www.cucinadelsole.nl/events/pasta-gnocchi-workshop-5/
URL:https://www.cucinadelsole.nl/events/pasta-gnocchi-workshop-5/
END:VEVENT
END:VCALENDAR