BEGIN:VCALENDAR
VERSION:2.0
PRODID:-//eventon.com NONSGML v1.0//EN
BEGIN:VEVENT
UID:69e7e0d71bf21
DTSTAMP:20260421T224055
DTSTART:20210713T180000Z
DTEND:20210713T203000Z
TZID:Europe/Berlin
LOCATION:La Cucina del Sole Warmondstraat 180 1058 LC Amsterdam
SUMMARY:Gezond en makkelijk koken voor 1
DESCRIPTION: Ben jij iemand\,  die geen zin heeft om alleen voor zichzelf te koken? En koop je grotendeels kant-en-klare maaltijden? (bezorgservice\,  supermarkt\,  snackbar\,  noem maar op?) Als je het zat bent om veel geld uit te geven aan voedsel dat vaak niet echt voedzaam en gezond is\,  hebben we de perfecte[..]\nhttps://www.cucinadelsole.nl/events/healthy-and-easy-cooking-for-1-3/
URL:https://www.cucinadelsole.nl/events/healthy-and-easy-cooking-for-1-3/
END:VEVENT
END:VCALENDAR