BEGIN:VCALENDAR
VERSION:2.0
PRODID:-//eventon.com NONSGML v1.0//EN
BEGIN:VEVENT
UID:69e7c9868cd1e
DTSTAMP:20260421T210126
DTSTART:20210627T163000Z
DTEND:20210627T183000Z
TZID:Europe/Berlin
LOCATION:La Cucina del Sole Warmondstraat 180 1058 LC Amsterdam
SUMMARY:MASTERCLASS GEVULDE PASTA
DESCRIPTION: Kom&nbsp;3 geweldige soorten gevulde pasta maken. Je bereidt eerst het pasta deeg en dan werk je aan de vullingen die deze pasta’s onweerstaanbaar maken. MENU: Cappellacci con burrata e pomodori secchi&nbsp;(grote tortelli met burrata kaas\,  basilicum en zongedroogde tomaten); Fagottini con pecorino e piselli&nbsp;(kussentjes gevuld met pecorino kaas en doperwtjes);[..]\nhttps://www.cucinadelsole.nl/events/masterclass-filled-pasta-2/
URL:https://www.cucinadelsole.nl/events/masterclass-filled-pasta-2/
END:VEVENT
END:VCALENDAR