BEGIN:VCALENDAR
VERSION:2.0
PRODID:-//eventon.com NONSGML v1.0//EN
BEGIN:VEVENT
UID:69e7b9af2c8ae
DTSTAMP:20260421T195351
DTSTART:20210627T163000Z
DTEND:20210627T183000Z
TZID:Europe/Berlin
LOCATION:La Cucina del Sole Warmondstraat 180 1058 LC Amsterdam
SUMMARY:MASTERCLASS FILLED PASTA
DESCRIPTION: Come learn how to make&nbsp;3 wonderful types of filled pasta. You’ll prepare the dough from scratch and work at the fillings that make these stuffed pastas irresistible. MENU: Cappellacci con burrata e pomodori secchi&nbsp;(big tortelli with burrata cheese\,  basil and sun-dried tomatoes); Fagottini con pecorino e piselli&nbsp;(little pillows stuffed with[..]\nhttps://www.cucinadelsole.nl/events/masterclass-filled-pasta-2/
URL:https://www.cucinadelsole.nl/events/masterclass-filled-pasta-2/
END:VEVENT
END:VCALENDAR